BEGIN:VCALENDAR
VERSION:2.0
PRODID:-//ICS | International Conference Services - Association, Tradeshow &amp; Conference Management - ECPv6.15.0.1//NONSGML v1.0//EN
CALSCALE:GREGORIAN
METHOD:PUBLISH
X-WR-CALNAME:ICS | International Conference Services - Association, Tradeshow &amp; Conference Management
X-ORIGINAL-URL:https://www.icsevents.com
X-WR-CALDESC:Events for ICS | International Conference Services - Association, Tradeshow &amp; Conference Management
REFRESH-INTERVAL;VALUE=DURATION:PT1H
X-Robots-Tag:noindex
X-PUBLISHED-TTL:PT1H
BEGIN:VTIMEZONE
TZID:UTC
BEGIN:STANDARD
TZOFFSETFROM:+0000
TZOFFSETTO:+0000
TZNAME:UTC
DTSTART:20190101T000000
END:STANDARD
END:VTIMEZONE
BEGIN:VEVENT
DTSTART;TZID=UTC:20210602T080000
DTEND;TZID=UTC:20210604T170000
DTSTAMP:20260422T191659
CREATED:20210422T180245Z
LAST-MODIFIED:20210422T180910Z
UID:7186-1622620800-1622826000@www.icsevents.com
SUMMARY:12th Asia-Pacific CHRIE & 4th Shatec Hospitality Conference
DESCRIPTION:APacCHRIE Conference 2021 is set to take place in Singapore from 2-4 June 2021. SHATEC is the host of this conference. \nDrawing keen synergy from industry-academic research and applications\, delegates will be able to engage in a seamless hybrid experience; one where they can connect\, mingle and interact safely and effectively. The conference aims to foster a high level of collaboration with industry stakeholders who bring in the best-in-class practices and create a fascinating ground for research showcase. \nThe 2021 main conference theme: Reboot\, Reimagine\, Redesign! is a call for all academics and industry practitioners to decode new norms for hospitality and tourism in the post-COVID-19 future.
URL:https://www.icsevents.com/events/apacchrie-2021/
CATEGORIES:Conferences,Meetings & Events
ATTACH;FMTTYPE=image/jpeg:https://www.icsevents.com/wp-content/uploads/2021/04/APacCHRIE-2021.jpg
END:VEVENT
BEGIN:VEVENT
DTSTART;TZID=UTC:20190617T080000
DTEND;TZID=UTC:20190621T170000
DTSTAMP:20260422T191659
CREATED:20181203T180643Z
LAST-MODIFIED:20181203T180643Z
UID:3414-1560758400-1561136400@www.icsevents.com
SUMMARY:International Conference on the use of Computers in Radiation Therapy
DESCRIPTION:ICCR 2019 will feature presentations on computer-driven radiation oncology studies and underlying computational techniques.
URL:https://www.icsevents.com/events/international-conference-on-the-use-of-computers-in-radiation-therapy/
CATEGORIES:Conferences
ATTACH;FMTTYPE=image/png:https://www.icsevents.com/wp-content/uploads/2018/12/ICCR-Logo-Full_square_transparent-EventsAir-invoice.png
END:VEVENT
BEGIN:VEVENT
DTSTART;TZID=UTC:20221204T080000
DTEND;TZID=UTC:20221208T170000
DTSTAMP:20260422T191659
CREATED:20230313T184810Z
LAST-MODIFIED:20230313T224525Z
UID:8038-1670140800-1670518800@www.icsevents.com
SUMMARY:21st World Congress of the Human Proteome Organization
DESCRIPTION:
URL:https://www.icsevents.com/events/21st-world-congress-of-the-human-proteome-organization/
CATEGORIES:Conferences
ATTACH;FMTTYPE=image/png:https://www.icsevents.com/wp-content/uploads/2023/03/HUPO-2022-Logo-Primary-Stacked.png
END:VEVENT
BEGIN:VEVENT
DTSTART;TZID=UTC:20230314T080000
DTEND;TZID=UTC:20230314T170000
DTSTAMP:20260422T191659
CREATED:20230314T003229Z
LAST-MODIFIED:20230622T065106Z
UID:8059-1678780800-1678813200@www.icsevents.com
SUMMARY:GSK Gynecological Cancer Summit
DESCRIPTION:
URL:https://www.icsevents.com/events/gsk-gynecological-cancer-summit/
CATEGORIES:Meetings & Events
ATTACH;FMTTYPE=image/png:https://www.icsevents.com/wp-content/uploads/2023/03/GSK2023_logo_400x400.png
END:VEVENT
BEGIN:VEVENT
DTSTART;TZID=UTC:20200914T080000
DTEND;TZID=UTC:20200915T170000
DTSTAMP:20260422T191659
CREATED:20200511T193200Z
LAST-MODIFIED:20200526T185403Z
UID:4251-1600070400-1600189200@www.icsevents.com
SUMMARY:Tongue-Tie Symposium
DESCRIPTION:This event will highlight some of the latest tongue-tie research and look at the implications for clinical practice and future research studies. This symposium dives into the latest research to help practitioners better understand the clinical puzzle of tongue-tie and lip-tie. As an emerging field of research\, there is still have a lot to learn about incidence and cause\, impact on structure and function\, assessment and identification\, treatment\, wound care\, restoring effective function\, addressing the emotional needs of the family and much more.
URL:https://www.icsevents.com/events/tongue-tie-symposium/
CATEGORIES:Meetings & Events,Virtual Solutions
ATTACH;FMTTYPE=image/png:https://www.icsevents.com/wp-content/uploads/2020/05/goldlearning_logo_500x200.png
END:VEVENT
BEGIN:VEVENT
DTSTART;TZID=UTC:20210621T080000
DTEND;TZID=UTC:20210624T170000
DTSTAMP:20260422T191659
CREATED:20210421T202849Z
LAST-MODIFIED:20210421T223440Z
UID:7138-1624262400-1624554000@www.icsevents.com
SUMMARY:International Congress of the Royal College of Psychiatrists
DESCRIPTION:The International Congress of the Royal College of Psychiatrists (RCPSYCH 2021) will take place virtually from June 21 – 24\, 2021. \nThe programme for this year’s International Congress is bigger and more exciting than ever before. We have a number of different types of session taking place this year. You will be able to access each type through the single 6Connex log in link. You do not need to log in and register for each session individually\, unless otherwise stated.
URL:https://www.icsevents.com/events/rcpsych-2021/
CATEGORIES:Conferences,Virtual Solutions
ATTACH;FMTTYPE=image/jpeg:https://www.icsevents.com/wp-content/uploads/2021/04/RCPSYCH2021.jpg
END:VEVENT
BEGIN:VEVENT
DTSTART;TZID=UTC:20220926T080000
DTEND;TZID=UTC:20220928T170000
DTSTAMP:20260422T191659
CREATED:20230313T180035Z
LAST-MODIFIED:20230313T180049Z
UID:8019-1664179200-1664384400@www.icsevents.com
SUMMARY:18th ISDE World Congress for Esophageal Diseases
DESCRIPTION:
URL:https://www.icsevents.com/events/18th-isde-world-congress-for-esophageal-diseases/
CATEGORIES:Conferences,Virtual Solutions
ATTACH;FMTTYPE=image/png:https://www.icsevents.com/wp-content/uploads/2023/03/ISDE-2022-VIRTUAL-V.png
END:VEVENT
BEGIN:VEVENT
DTSTART;TZID=UTC:20220806T080000
DTEND;TZID=UTC:20230809T170000
DTSTAMP:20260422T191659
CREATED:20230313T172046Z
LAST-MODIFIED:20230622T010248Z
UID:7998-1659772800-1691600400@www.icsevents.com
SUMMARY:IASLC 2022 World Conference on Lung Cancer
DESCRIPTION:
URL:https://www.icsevents.com/events/iaslc-2022-world-conference-on-lung-cancer/
CATEGORIES:Conferences
ATTACH;FMTTYPE=image/jpeg:https://www.icsevents.com/wp-content/uploads/2023/03/WCLC22-LogoVRTL-0821.jpg
END:VEVENT
BEGIN:VEVENT
DTSTART;TZID=UTC:20210328T080000
DTEND;TZID=UTC:20210331T170000
DTSTAMP:20260422T191659
CREATED:20190813T182831Z
LAST-MODIFIED:20220615T160353Z
UID:3823-1616918400-1617210000@www.icsevents.com
SUMMARY:International Conference on Cancer Nursing
DESCRIPTION:The International Conference on Cancer Nursing (ICCN) is the longest running international conference for the profession of cancer nursing and offers a unique opportunity to network and exchange knowledge with international cancer nursing professionals from around the world.\n\nThe theme for the conference is “Innovation and Inspiration: Celebrating the Global Impact of Oncology Nurses.” The meeting will focus on all aspects of oncology nursing and our ability to impact patients\, families\, communities and nations through clinical practice\, education\, health policy\, leadership and research. Through scholarly discourse\, networking and collaboration among oncology nursing educators\, practitioners\, researchers\, and leaders from across the globe\, we will showcase the remarkable work and dedication of nurses involved in cancer care. \nThis international annual meeting is hosted by the International Society of Nurses in Cancer Care.
URL:https://www.icsevents.com/events/international-conference-on-cancer-nursing/
CATEGORIES:Conferences
ATTACH;FMTTYPE=image/jpeg:https://www.icsevents.com/wp-content/uploads/2019/08/02.-Primary-Logo-in-Colour-HOR.jpg
END:VEVENT
BEGIN:VEVENT
DTSTART;TZID=UTC:20190219T080000
DTEND;TZID=UTC:20190220T170000
DTSTAMP:20260422T191659
CREATED:20190108T205241Z
LAST-MODIFIED:20230207T234141Z
UID:3501-1550563200-1550682000@www.icsevents.com
SUMMARY:Global Alliance for Banking Values Summit
DESCRIPTION:The Global Alliance for Banking on Values is an independent network of banking institutions using finance to deliver sustainable economic\, social and environmental development. \nThe GABV Summit 2019 explores Migrants\, #MeToo\, and Melting Icecaps…Redefining Banking for a Radically Different Future.
URL:https://www.icsevents.com/events/global-alliance-for-banking-values/
ATTACH;FMTTYPE=image/png:https://www.icsevents.com/wp-content/uploads/2019/01/Untitled-design-1.png
END:VEVENT
BEGIN:VEVENT
DTSTART;TZID=UTC:20210525T080000
DTEND;TZID=UTC:20210527T170000
DTSTAMP:20260422T191659
CREATED:20230228T230638Z
LAST-MODIFIED:20230228T230638Z
UID:7946-1621929600-1622134800@www.icsevents.com
SUMMARY:15th International Mesothelioma Interest Group (iMig2021)
DESCRIPTION:
URL:https://www.icsevents.com/events/15th-international-mesothelioma-interest-group-imig2021/
CATEGORIES:Meetings & Events,Virtual Solutions
ATTACH;FMTTYPE=image/png:https://www.icsevents.com/wp-content/uploads/2023/02/iMig2021_virtual_logo_stacked.png
END:VEVENT
BEGIN:VEVENT
DTSTART;TZID=UTC:20220610T080000
DTEND;TZID=UTC:20220612T170000
DTSTAMP:20260422T191659
CREATED:20230313T145032Z
LAST-MODIFIED:20230313T145623Z
UID:7979-1654848000-1655053200@www.icsevents.com
SUMMARY:The 13th Annual Meeting of the Japan Primary Care Association
DESCRIPTION:
URL:https://www.icsevents.com/events/the-13th-annual-meeting-of-the-japan-primary-care-association/
CATEGORIES:Conferences,Hybrid Meeting Solutions
END:VEVENT
BEGIN:VEVENT
DTSTART;TZID=UTC:20191020T080000
DTEND;TZID=UTC:20191023T170000
DTSTAMP:20260422T191659
CREATED:20181203T181049Z
LAST-MODIFIED:20190328T153630Z
UID:3417-1571558400-1571850000@www.icsevents.com
SUMMARY:World Congress on Gestational Trophoblastic Diseases
DESCRIPTION:
URL:https://www.icsevents.com/events/world-congress-on-gestational-trophoblastic-diseases/
CATEGORIES:Conferences
ATTACH;FMTTYPE=image/jpeg:https://www.icsevents.com/wp-content/uploads/2018/12/Untitled-design-3.jpg
END:VEVENT
BEGIN:VEVENT
DTSTART;TZID=UTC:20230118T080000
DTEND;TZID=UTC:20230119T170000
DTSTAMP:20260422T191659
CREATED:20230313T225526Z
LAST-MODIFIED:20230314T003523Z
UID:8043-1674028800-1674147600@www.icsevents.com
SUMMARY:FireSmart BC Workshop Series
DESCRIPTION:
URL:https://www.icsevents.com/events/firesmart-bc-workshop-series-2/
CATEGORIES:Virtual Solutions
ATTACH;FMTTYPE=image/png:https://www.icsevents.com/wp-content/uploads/2023/03/BC-Firesmart-Logo-Primary.png
END:VEVENT
BEGIN:VEVENT
DTSTART;TZID=UTC:20190724T080000
DTEND;TZID=UTC:20190727T170000
DTSTAMP:20260422T191659
CREATED:20171107T170505Z
LAST-MODIFIED:20230207T230055Z
UID:2936-1563955200-1564246800@www.icsevents.com
SUMMARY:41st Annual Meeting of the Cognitive Science Society
DESCRIPTION:The annual meeting of the Cognitive Science Society is aimed at basic and applied cognitive science research. The conference hosts the latest theories and data from the world’s best cognitive science researchers. Each year\, in addition to submitted papers\, researchers are invited to highlight some aspect of cognitive science. \n 
URL:https://www.icsevents.com/events/society-of-cognitive-science/
CATEGORIES:Conferences
ATTACH;FMTTYPE=image/jpeg:https://www.icsevents.com/wp-content/uploads/2017/11/COGSCI-1.jpg
END:VEVENT
BEGIN:VEVENT
DTSTART;TZID=UTC:20221107T080000
DTEND;TZID=UTC:20221110T170000
DTSTAMP:20260422T191659
CREATED:20200519T212728Z
LAST-MODIFIED:20211220T165437Z
UID:4504-1667808000-1668099600@www.icsevents.com
SUMMARY:6th International Symposium on the System of Radiological Protection
DESCRIPTION:The International Commission on Radiological Protection (ICRP)\, the Canadian Nuclear Safety Commission (CNSC)\, and the Canadian Radiation Protection Association (CRPA)\, are excited to welcome you to ICRP 2021 +1 in beautiful Vancouver\, British Columbia. Attendees will also get the opportunity to experience CRPA’s 2022 Annual Meeting. \nWith the breathtaking views from the Westin Bayshore in downtown Vancouver\, the hosts look forward to seeing you for another world-class programme at ICRP’s biennial symposia series.
URL:https://www.icsevents.com/events/6th-international-symposium-on-the-system-of-radiological-protection/
CATEGORIES:Conferences
ATTACH;FMTTYPE=image/png:https://www.icsevents.com/wp-content/uploads/2020/05/ICRP_main-logo_DB_full-colour-rgb.png
END:VEVENT
BEGIN:VEVENT
DTSTART;TZID=UTC:20210705T080000
DTEND;TZID=UTC:20210709T170000
DTSTAMP:20260422T191659
CREATED:20210421T203515Z
LAST-MODIFIED:20210421T223532Z
UID:7142-1625472000-1625850000@www.icsevents.com
SUMMARY:Thinking Qualitatively 2021
DESCRIPTION:The University of British Columbia Okanagan (UBCO)\, in agreement with the University of Alberta\,  International Institute for Qualitative Methodology (IIQM)\, is pleased to present the re-imagined 20th Thinking Qualitatively Virtual Conference (TQ). TQ will be held world–wide July 5-9\, 2021.   \nThis year\, IIQM’s Qualitative Methods Conference has been combined with TQ. The program includes all of the usual features of TQ plus opportunities to present oral papers.  The conference will be entirely virtual\, and will be organized around seven regions based on time zones\, with world leaders in qualitative research leading each regional program.  We hope that this approach will make it easier for individuals from all parts of the world to attend TQ during their own daytime hours. Participants will also be able to attend sessions in other parts of the world that interest them.
URL:https://www.icsevents.com/events/tq2021/
CATEGORIES:Conferences
ATTACH;FMTTYPE=image/jpeg:https://www.icsevents.com/wp-content/uploads/2021/04/TQ2021.jpg
END:VEVENT
BEGIN:VEVENT
DTSTART;TZID=UTC:20221012T080000
DTEND;TZID=UTC:20221014T170000
DTSTAMP:20260422T191659
CREATED:20230313T180504Z
LAST-MODIFIED:20230313T180519Z
UID:8022-1665561600-1665766800@www.icsevents.com
SUMMARY:ILA General Assembly and Symposia (International Lime Association)
DESCRIPTION:
URL:https://www.icsevents.com/events/ila-general-assembly-and-symposia-international-lime-association/
CATEGORIES:Meetings & Events
ATTACH;FMTTYPE=image/png:https://www.icsevents.com/wp-content/uploads/2023/03/ILA2022_logo.png
END:VEVENT
BEGIN:VEVENT
DTSTART;TZID=UTC:20220915T080000
DTEND;TZID=UTC:20220916T170000
DTSTAMP:20260422T191659
CREATED:20230313T173936Z
LAST-MODIFIED:20230313T173936Z
UID:8010-1663228800-1663347600@www.icsevents.com
SUMMARY:The Dietitians of Canada 2022 National Virtual Conference
DESCRIPTION:
URL:https://www.icsevents.com/events/the-dietitians-of-canada-2022-national-virtual-conference/
CATEGORIES:Conferences
ATTACH;FMTTYPE=image/png:https://www.icsevents.com/wp-content/uploads/2023/03/DC_H_CMYK_ENG.png
END:VEVENT
BEGIN:VEVENT
DTSTART;TZID=UTC:20200219T080000
DTEND;TZID=UTC:20200222T200000
DTSTAMP:20260422T191659
CREATED:20200225T005252Z
LAST-MODIFIED:20200225T005402Z
UID:4027-1582099200-1582401600@www.icsevents.com
SUMMARY:IASLC Targeted Therapy for Lung Cancer Meeting
DESCRIPTION:The IASLC 2020 Lung Cancer Targeted Therapies Meeting returns to Santa Monica\, California\, February 19-22\, 2020. This IASLC-sponsored meeting provides information about ongoing clinical trials of the newest therapies for lung cancer. The meeting presenters summarize the data on relevant targets for new therapies and share data on preclinical and early clinical data for each of the drugs directed against these targets. The meeting also presents data on early predictive biomarkers.  There are also presentations from fellows and young investigators in training and debates about controversial topics. The meeting is a unique resource for clinical investigators\, including those in academia\, clinical practice and industry
URL:https://www.icsevents.com/events/iaslc-targeted-therapy-for-lung-cancer-meeting/
CATEGORIES:Meetings & Events
ATTACH;FMTTYPE=image/png:https://www.icsevents.com/wp-content/uploads/2020/02/2020-TTLC_LOGO_INV_400x400_cutted.png
END:VEVENT
BEGIN:VEVENT
DTSTART;TZID=UTC:20210225T080000
DTEND;TZID=UTC:20210228T170000
DTSTAMP:20260422T191659
CREATED:20190409T212319Z
LAST-MODIFIED:20220615T160235Z
UID:3634-1614240000-1614531600@www.icsevents.com
SUMMARY:CINP 2021 World Congress
DESCRIPTION:The annual CINP World Congress is held in major cities around the world\, provides a forum for the presentation of the latest findings in neuropsychopharmacology and allow the world’s leading scientists and clinicians to exchange ideas and information. They include plenary lectures\, cutting edge scientific symposia\, poster sessions and educational and scientific workshops and are acknowledged to be among the very highest quality scientific programmes in this field. Delegates from all around the world and an excellent mixture of clinicians and basic scientists from all backgrounds get together to share their knowledge and expertise in the field of neuropsychopharmacology.
URL:https://www.icsevents.com/events/cinp-2021-world-congress-taiwan/
CATEGORIES:Associations,Conferences
ATTACH;FMTTYPE=image/jpeg:https://www.icsevents.com/wp-content/uploads/2020/05/CINP_500x200.jpg
END:VEVENT
BEGIN:VEVENT
DTSTART;TZID=UTC:20220824T080000
DTEND;TZID=UTC:20220825T170000
DTSTAMP:20260422T191659
CREATED:20230228T233333Z
LAST-MODIFIED:20230228T233333Z
UID:7950-1661328000-1661446800@www.icsevents.com
SUMMARY:Singapore Mental Health Conference
DESCRIPTION:
URL:https://www.icsevents.com/events/singapore-mental-health-conference/
CATEGORIES:Conferences,Hybrid Meeting Solutions
ATTACH;FMTTYPE=image/png:https://www.icsevents.com/wp-content/uploads/2023/02/SMHC2021_logo1.png
END:VEVENT
BEGIN:VEVENT
DTSTART;TZID=UTC:20220619T080000
DTEND;TZID=UTC:20220622T170000
DTSTAMP:20260422T191659
CREATED:20230313T145510Z
LAST-MODIFIED:20230313T173406Z
UID:7981-1655625600-1655917200@www.icsevents.com
SUMMARY:International Law Association Portugal
DESCRIPTION:
URL:https://www.icsevents.com/events/international-law-association-portugal/
CATEGORIES:Conferences
ATTACH;FMTTYPE=image/png:https://www.icsevents.com/wp-content/uploads/2023/03/Logotype_Vertical-V2.png
END:VEVENT
BEGIN:VEVENT
DTSTART;TZID=UTC:20191003T080000
DTEND;TZID=UTC:20191005T080000
DTSTAMP:20260422T191659
CREATED:20181203T183047Z
LAST-MODIFIED:20220427T022807Z
UID:3422-1570089600-1570262400@www.icsevents.com
SUMMARY:CINP 2019 International Meeting
DESCRIPTION:The biennial CINP International Meeting is an innovative and exciting new format of the college which began back in 2009. They are international in scope with a mixture of scientific symposia and a significant number of education sessions. Focused on a single theme and concentrate on specific topics while also incorporating educational and professional development in addition to research sessions\, they are also expected to be considerably more intimate than the major biennial international congress and provide an optimal environment for the sharing and exchange of knowledge and ideas.
URL:https://www.icsevents.com/events/cinp-2019-international-meeting/
CATEGORIES:Conferences
ATTACH;FMTTYPE=image/jpeg:https://www.icsevents.com/wp-content/uploads/2018/12/Untitled-design-4.jpg
END:VEVENT
BEGIN:VEVENT
DTSTART;TZID=UTC:20230125T080000
DTEND;TZID=UTC:20230128T170000
DTSTAMP:20260422T191659
CREATED:20230313T235411Z
LAST-MODIFIED:20230313T235502Z
UID:8045-1674633600-1674925200@www.icsevents.com
SUMMARY:IASLC 2023 Latin America Conference on Lung Cancer
DESCRIPTION:
URL:https://www.icsevents.com/events/iaslc-2023-latin-america-conference-on-lung-cancer/
CATEGORIES:Conferences,Meetings & Events
ATTACH;FMTTYPE=image/png:https://www.icsevents.com/wp-content/uploads/2023/03/LALCA-2023_Stacked-Colour.png
END:VEVENT
BEGIN:VEVENT
DTSTART;TZID=UTC:20211024T080000
DTEND;TZID=UTC:20211028T170000
DTSTAMP:20260422T191659
CREATED:20181204T191627Z
LAST-MODIFIED:20220615T160308Z
UID:3455-1635062400-1635440400@www.icsevents.com
SUMMARY:Human Proteome Organization
DESCRIPTION:The Human Proteome Organization (HUPO) is an international scientific organization representing and promoting proteomics through international cooperation and collaborations by fostering the development of new technologies\, techniques and training.
URL:https://www.icsevents.com/events/human-proteome-organization/
CATEGORIES:Associations,Conferences
ATTACH;FMTTYPE=image/png:https://www.icsevents.com/wp-content/uploads/2018/12/HUPO2021_web_horizontal_Logo.png
END:VEVENT
BEGIN:VEVENT
DTSTART;VALUE=DATE:20221209
DTEND;VALUE=DATE:20221210
DTSTAMP:20260422T191659
CREATED:20200519T214420Z
LAST-MODIFIED:20230926T172246Z
UID:4511-1670544000-1670630399@www.icsevents.com
SUMMARY:Education and Career Fairs
DESCRIPTION:The Education & Career Fair (ECF) is B.C.’s Largest Career Development Fair. Our mission is to support the career pursuits of B.C. residents “starting from square one”. ECF is proud to be recognized by Business in Vancouver as “Top Trade Shows in the Lower Mainland”. \nThis includes secondary students planning for higher education; young adults looking to transfer their work experience & skills to a different industry; and new immigrants seeking employment and further training to settle in Canada.
URL:https://www.icsevents.com/events/education-and-career-fairs-2021/
CATEGORIES:Tradeshows
ATTACH;FMTTYPE=image/gif:https://www.icsevents.com/wp-content/uploads/2016/10/ECF-Logo-RGB-01-1.gif
END:VEVENT
BEGIN:VEVENT
DTSTART;TZID=UTC:20210601T080000
DTEND;TZID=UTC:20210727T170000
DTSTAMP:20260422T191659
CREATED:20210421T223030Z
LAST-MODIFIED:20210421T231039Z
UID:7153-1622534400-1627405200@www.icsevents.com
SUMMARY:GOLD Neonatal Online Conference 2021
DESCRIPTION:The 5th annual Neonatal Conference will bring the latest research\, trends\, new ideas and hot topics in the world of neonatal care. Our goal is to provide evidence-based continuing education that will help bridge the gap between established protocols and practices and the rapid growth of new research. Join us for an amazing program of thought-provoking topics and speakers who will expand your knowledge and skills! \nOur conference for 2021 is packed full of important clinical topics such as COVID in the NICU\, IV lipid emulsions\, the role of the nurse in the end of life decision making process\, pain management\, caffeine use in neonates\, feeding behaviors in the opioid exposed infant\, infants with swallowing challenges and so much more. GOLD Neonatal promises to be an informative event that you won’t want to miss!
URL:https://www.icsevents.com/events/gold-neonatal/
CATEGORIES:Conferences
ATTACH;FMTTYPE=image/jpeg:https://www.icsevents.com/wp-content/uploads/2021/04/GOLD-Neonatal.jpg
END:VEVENT
BEGIN:VEVENT
DTSTART;TZID=UTC:20221101T080000
DTEND;TZID=UTC:20221102T170000
DTSTAMP:20260422T191659
CREATED:20230313T181510Z
LAST-MODIFIED:20230313T181510Z
UID:8026-1667289600-1667408400@www.icsevents.com
SUMMARY:FireSmart BC Workshop Series
DESCRIPTION:
URL:https://www.icsevents.com/events/firesmart-bc-workshop-series/
CATEGORIES:Meetings & Events,Virtual Solutions
ATTACH;FMTTYPE=image/png:https://www.icsevents.com/wp-content/uploads/2023/03/BC-Firesmart-Logo-Primary.png
END:VEVENT
BEGIN:VEVENT
DTSTART;TZID=UTC:20220921T080000
DTEND;TZID=UTC:20220924T170000
DTSTAMP:20260422T191659
CREATED:20230313T174619Z
LAST-MODIFIED:20230313T174619Z
UID:8013-1663747200-1664038800@www.icsevents.com
SUMMARY:Guidelines International Network
DESCRIPTION:
URL:https://www.icsevents.com/events/guidelines-international-network/
CATEGORIES:Meetings & Events
ATTACH;FMTTYPE=image/png:https://www.icsevents.com/wp-content/uploads/2023/03/20_Years_Logo_NAVY.png
END:VEVENT
END:VCALENDAR